BEGIN:VCALENDAR
VERSION:2.0
PRODID:-//WUK Theater Quartier - ECPv6.15.13.1//NONSGML v1.0//EN
CALSCALE:GREGORIAN
METHOD:PUBLISH
X-WR-CALNAME:WUK Theater Quartier
X-ORIGINAL-URL:https://www.wuk-theater.de
X-WR-CALDESC:Veranstaltungen für WUK Theater Quartier
REFRESH-INTERVAL;VALUE=DURATION:PT1H
X-Robots-Tag:noindex
X-PUBLISHED-TTL:PT1H
BEGIN:VTIMEZONE
TZID:Europe/Berlin
BEGIN:DAYLIGHT
TZOFFSETFROM:+0100
TZOFFSETTO:+0200
TZNAME:CEST
DTSTART:20240331T010000
END:DAYLIGHT
BEGIN:STANDARD
TZOFFSETFROM:+0200
TZOFFSETTO:+0100
TZNAME:CET
DTSTART:20241027T010000
END:STANDARD
BEGIN:DAYLIGHT
TZOFFSETFROM:+0100
TZOFFSETTO:+0200
TZNAME:CEST
DTSTART:20250330T010000
END:DAYLIGHT
BEGIN:STANDARD
TZOFFSETFROM:+0200
TZOFFSETTO:+0100
TZNAME:CET
DTSTART:20251026T010000
END:STANDARD
BEGIN:DAYLIGHT
TZOFFSETFROM:+0100
TZOFFSETTO:+0200
TZNAME:CEST
DTSTART:20260329T010000
END:DAYLIGHT
BEGIN:STANDARD
TZOFFSETFROM:+0200
TZOFFSETTO:+0100
TZNAME:CET
DTSTART:20261025T010000
END:STANDARD
END:VTIMEZONE
BEGIN:VEVENT
DTSTART;TZID=Europe/Berlin:20250918T200000
DTEND;TZID=Europe/Berlin:20250918T223000
DTSTAMP:20260421T115517
CREATED:20250808T153143Z
LAST-MODIFIED:20250911T181856Z
UID:18006-1758225600-1758234600@www.wuk-theater.de
SUMMARY:A-MINOR-FESTIVAL FÜR JAZZ UND IMPROVISIERTE MUSIK | #paradiese
DESCRIPTION:A-MINOR-FESTIVAL FÜR JAZZ UND IMPROVISIERTE MUSIK\n\nDas erste „A-minor- Festival“ des Jazzkollektiv Halle startet im Zeitraum 18.09.-20.09.25 auch im WUK Theater Quartier. Mit einem herzlichen „Ey\, Meine:r“ öffnen wir die Theaterbühne für herausragende Konzerte und Workshopangebote. Wollen Brücken bauen zwischen Tradition und Zeitgeist – dem Standard und der Avantgarde. \nZudem wird es reichlich Raum für Austausch\, Kommunikation und Interaktion geben\, nicht zuletzt in Form der Jam-Session „Ventil im Exil“ im Gewölbe des WUK Theater Quartier. Und so wünschen wir nun viel Vergnügen beim Entdecken des Festivalprogramms. \nKONZERT 1\nOLICÍA ist die Band der beiden Sängerinnen und Multiinstrumentalistinnen Fama M’Boup und Anna-Lucia Rupp. Angetrieben von weiblichen Stimmen\, teilen sie Lead Vocals und andere musikalische Elemente\, schichten\, beatboxen\, harmonisieren und lassen Klänge wachsen. Die Instrumentierung reicht von Synths und geloopten Stimmfetzen bis zu Gitarre und Klarinette. \n \nOLICÍA\nDo. 18.09. 20:00 Uhr\nWUK Theater Quartier\, Holzplatz 7a \n  \nKONZERT 2\nDELL – LILLINGER – WESTERGAARD – das Trio verbindet energetisches Spiel mit struktureller Durchführung. Kompositionale Materialien werden in real-time permanent neu verschaltet. Aus dem Interagieren der Musiker heraus entfaltet sich ein musikalischer hoher Energiezustand unterschiedlichster Differenzierungen\, Varianten\, Klangüberlagungen und Verweiszusammenhänge.\nInstrumentierung: Vibraphon\, Bass\, Schlagzeug \n \nDELL – LILLINGER – WESTERGAARD \nDo. 18.09. 21:15Uhr\nWUK Theater Quartier\, Holzplatz 7a \n  \nTermine \nDo. 18.09. 20:00 Uhr –  OLICÍA | Konzert im WUK Theater Quartier\nDo. 18.09 21:15 Uhr – DELL – LILLINGER – WESTERGAARD | Quartier \nFr. 19.09. 11:00 Uhr | Künstler*innen-Gespräch | WUK Theater Quartier oder im BLECH (Info hierzu folgt) | kostenfrei\nFr. 19.09. 15:00 – 18:00 Uhr | Archaische Stimmreise mit Saadet Türköz | Workshop im WUK Theater Studio\nFr. 19.09.  20:00 Uhr  – Lisa Hoppe’s YSOP | Konzert im WUK Theater Quartier\nFr. 19.09. 21:15 Uhr – CRUTCHES | Konzert im WUK Theater Quartier \nSa. 20.09. 11:00 Uhr – Künstler*innen-Gespräch | WUK Theater Quartier oder im BLECH (Information hierzu folgt) | kostenfrei\nSa. 20.09. 14:30 Uhr – Filmvorführung On the other Side of the Spoon / Sound Dreams of Istanbul\, anschließend Gespräch mit Dr. Ulrich Steinmetzger | Film im Puschkino\nSa. 20.09.  18:00 Uhr Pierre Borel – Katapult Record Release | Konzert im WUK Theater Quartier\nSa. 20.09. 20:00 Uhr – Saadet Türköz / Toby Delius | Konzert im WUK Theater Quartier\nSa. 20.09.  21:15 Uhr – Banquet of Consequences| Konzert im WUK Theater Quartier\nSa. 20.09.  22:30 Uhr – Ventil im Exil | Jam Session im WUK Theater Quartier| kostenfrei \nSo. 21.09. 11:30 Uhr | – Silvia Tarozzi & Deborah Walker | Konzert in der Templerkapelle Mücheln\nSo. 21.09.  17:00 Uhr  – Malacoda String Quartet Plays Tristan Honsinger | Konzert im Dom zu Halle \nTickets \nFestivalpass komplett (Do. – So.)  50€ | 70€ | 100€\n3Tagepass (Fr. – So.) 40€ | 55€ | 75€\nTageskarte/ Abendkarte 15€ | 20€ | 30€\nWorkshop 15€ | 20€ | 30€ (Nur Barzahlung vor Ort) Anmeldung über kontakt@wuk-theater.de\nEinzelkarte Konzert Pierre Borel 7€ | 10€ | 15€\nEinzelkarte Konzert Templerkapelle 10€ | 15€ | 20€\nFilmprogramm 7€ / 8€ (Verkauf findet über Puschkino Halle statt) \nErhältlich in unserem Online-VVK unter: http://www.wuk-theater.de/karten oder an allen Vorverkaufsstellen der Stadt \n 
URL:https://www.wuk-theater.de/event/a-minor-festival-fuer-jazz-und-improvisierte-musik-paradiese/
LOCATION:WUK Theater Quartier\, Holzplatz 7a\, Halle (Saale)
CATEGORIES:25 #paradiese
ATTACH;FMTTYPE=image/jpeg:https://www.wuk-theater.de/wp-content/uploads/2025/08/default_3.2.1.jpg
END:VEVENT
END:VCALENDAR